BEGIN:VCALENDAR
VERSION:2.0
PRODID:-//Tukios.com/
BEGIN:VEVENT
UID:1d2b28f3-7686-4155-af10-117d7173dd63@obits.smartcremation.com
DTSTAMP:20260421T083859Z
DTSTART:20260313T200000Z
DTEND:20260313T210000Z
SUMMARY:Celebration of Life
DESCRIPTION:
URL:https://obits.smartcremation.com/beverly-winkler
LOCATION:LaLoma 14154 W Denny Blvd  Litchfield AZ 85340
GEO:33.5107311;-112.3631709
END:VEVENT
END:VCALENDAR